BEGIN:VCALENDAR
VERSION:2.0
METHOD:PUBLISH
CALSCALE:GREGORIAN
PRODID:-//Refresh Web Development//Helios Calendar//EN
X-FROM-URL:https://www.bayareascience.org/calendar/index.php?com=details&eID=34383
X-WR-RELCALID:BayAreaScience.org Everything You Never Knew You Wanted to Know about Mosquitoes  20230822T180000
X-WR-TIMEZONE:America/New_York
X-WR-CALNAME:BayAreaScience.org
BEGIN:VEVENT
URL;VALUE=URI:https://www.bayareascience.org/calendar/index.php?com=detail&eID=34383
DTSTART:20230822T180000
DTEND:20230822T190000
SUMMARY:Everything You Never Knew You Wanted to Know about Mosquitoes 
DESCRIPTION:San Mateo County Mosquito and Vector Control District offers no-charge services to county residents! Join us to learn about basic mosquito ecology\, common water sources\, the history of mosquito...\n______________________________\nThis Event Downloaded From a Helios Calendar Powered Site
LOCATION:San Mateo Public Library - 55 W. 3rd Avenue \, San Mateo\, CA  94402
CATEGORIES:BayAreaScience.org Events
PRIORITY:0
TRANSP:TRANSPARENT
END:VEVENT
END:VCALENDAR