BEGIN:VCALENDAR
VERSION:2.0
METHOD:PUBLISH
CALSCALE:GREGORIAN
PRODID:-//Refresh Web Development//Helios Calendar//EN
X-FROM-URL:https://www.bayareascience.org/calendar/index.php?com=details&eID=34385
X-WR-RELCALID:BayAreaScience.org Creating the Science, Covering the Science 20230905T180000
X-WR-TIMEZONE:America/New_York
X-WR-CALNAME:BayAreaScience.org
BEGIN:VEVENT
URL;VALUE=URI:https://www.bayareascience.org/calendar/index.php?com=detail&eID=34385
DTSTART:20230905T180000
DTEND:20230905T190000
SUMMARY:Creating the Science\, Covering the Science
DESCRIPTION:Join us in-person and online for a discussion with journalist Katie Hafner\, who covers scientific advances\, especially those by women\, and her husband\, Dr. Robert Wachter of UCSF\, who is on the...\n______________________________\nThis Event Downloaded From a Helios Calendar Powered Site
LOCATION:Commonwealth Club - 110 The Embarcadero \, San Francisco\, CA  94105
CATEGORIES:BayAreaScience.org Events
PRIORITY:0
TRANSP:TRANSPARENT
END:VEVENT
END:VCALENDAR