BEGIN:VCALENDAR
VERSION:2.0
METHOD:PUBLISH
CALSCALE:GREGORIAN
PRODID:-//Refresh Web Development//Helios Calendar//EN
X-FROM-URL:https://www.bayareascience.org/calendar/index.php?com=details&eID=34393
X-WR-RELCALID:BayAreaScience.org We Need New Antibiotics - Why Do We Have So Few? 20231101T193000
X-WR-TIMEZONE:America/New_York
X-WR-CALNAME:BayAreaScience.org
BEGIN:VEVENT
URL;VALUE=URI:https://www.bayareascience.org/calendar/index.php?com=detail&eID=34393
DTSTART:20231101T193000
DTEND:20231101T203000
SUMMARY:We Need New Antibiotics - Why Do We Have So Few?
DESCRIPTION:Dr. Julia Schaletzky is the Executive Director of the Center for Emerging and Neglected Diseases and the Drug Discovery Center at UC Berkeley. After studying biochemistry in her native Germany\,...\n______________________________\nThis Event Downloaded From a Helios Calendar Powered Site
LOCATION:Marin Science Seminar - 320 Nova Albion Way Terra Linda High School Innovation Hub 1st Floor\, San Rafael\, CA USA 94903
CATEGORIES:BayAreaScience.org Events
PRIORITY:0
TRANSP:TRANSPARENT
END:VEVENT
END:VCALENDAR