BEGIN:VCALENDAR
VERSION:2.0
METHOD:PUBLISH
CALSCALE:GREGORIAN
PRODID:-//Refresh Web Development//Helios Calendar//EN
X-FROM-URL:https://www.bayareascience.org/calendar/index.php?com=details&eID=34404
X-WR-RELCALID:BayAreaScience.org  Discarded Worlds: Astronomical ideas that were almost correct...  20230818T193000
X-WR-TIMEZONE:America/New_York
X-WR-CALNAME:BayAreaScience.org
BEGIN:VEVENT
URL;VALUE=URI:https://www.bayareascience.org/calendar/index.php?com=detail&eID=34404
DTSTART:20230818T193000
DTEND:20230818T193000
SUMMARY: Discarded Worlds: Astronomical ideas that were almost correct... 
DESCRIPTION:Astronomy is more than just observing\; it's making sense of those observations. A good theorist needs to blend a knowledge of whatÃ¢â‚¬â„¢s been observed\, with a good imagination... and...\n______________________________\nThis Event Downloaded From a Helios Calendar Powered Site
LOCATION:Tri-Valley Stargazers - 1893 N. Vasco Rd Unitarian Universalist Church\, Livermore\, CA  94551
CATEGORIES:BayAreaScience.org Events
PRIORITY:0
TRANSP:TRANSPARENT
END:VEVENT
END:VCALENDAR