BEGIN:VCALENDAR
VERSION:2.0
METHOD:PUBLISH
CALSCALE:GREGORIAN
PRODID:-//Refresh Web Development//Helios Calendar//EN
X-FROM-URL:https://www.bayareascience.org/calendar/index.php?com=details&eID=34412
X-WR-RELCALID:BayAreaScience.org  NightSchool: Bed Time - Livestream 20230817T190000
X-WR-TIMEZONE:America/New_York
X-WR-CALNAME:BayAreaScience.org
BEGIN:VEVENT
URL;VALUE=URI:https://www.bayareascience.org/calendar/index.php?com=detail&eID=34412
DTSTART:20230817T190000
DTEND:20230817T190000
SUMMARY: NightSchool: Bed Time - Livestream
DESCRIPTION:Wake up\, it's Bed Time! No\, not that kind - weâ€™re talking about RIVER beds\, MUSSEL beds\, and MORE. Weâ€™re so excited we can hardly sleep!Watch on YouTube\, Twitch\, or Facebook.Â ...\n______________________________\nThis Event Downloaded From a Helios Calendar Powered Site
LOCATION:California Academy of Sciences -  \, \, CA  
CATEGORIES:BayAreaScience.org Events
PRIORITY:0
TRANSP:TRANSPARENT
END:VEVENT
END:VCALENDAR