BEGIN:VCALENDAR
VERSION:2.0
METHOD:PUBLISH
CALSCALE:GREGORIAN
PRODID:-//Refresh Web Development//Helios Calendar//EN
X-FROM-URL:https://www.bayareascience.org/calendar/index.php?com=details&eID=34413
X-WR-RELCALID:BayAreaScience.org Fear and Loathing in the Heavens: The 1910 Return of Halleyâ€™s Comet 20230826T193000
X-WR-TIMEZONE:America/New_York
X-WR-CALNAME:BayAreaScience.org
BEGIN:VEVENT
URL;VALUE=URI:https://www.bayareascience.org/calendar/index.php?com=detail&eID=34413
DTSTART:20230826T193000
DTEND:20230826T193000
SUMMARY:Fear and Loathing in the Heavens: The 1910 Return of Halleyâ€™s Comet
DESCRIPTION:In 1705\, Edmond Halley liberated...\n______________________________\nThis Event Downloaded From a Helios Calendar Powered Site
LOCATION:East Bay Astronomical Society - Chabot Space & Science Center\, 10000 Skyline Blvd Classroom 4 formerly knows as Copernicus\, Oakland\, CA  94619
CATEGORIES:BayAreaScience.org Events
PRIORITY:0
TRANSP:TRANSPARENT
END:VEVENT
END:VCALENDAR