BEGIN:VCALENDAR
VERSION:2.0
METHOD:PUBLISH
CALSCALE:GREGORIAN
PRODID:-//Refresh Web Development//Helios Calendar//EN
X-FROM-URL:https://www.bayareascience.org/calendar/index.php?com=details&eID=34418
X-WR-RELCALID:BayAreaScience.org Science Safari - Backyard Sanctuaries 20230826T103000
X-WR-TIMEZONE:America/New_York
X-WR-CALNAME:BayAreaScience.org
BEGIN:VEVENT
URL;VALUE=URI:https://www.bayareascience.org/calendar/index.php?com=detail&eID=34418
DTSTART:20230826T103000
DTEND:20230826T120000
SUMMARY:Science Safari - Backyard Sanctuaries
DESCRIPTION:The San Franciso Bay area is an important area for a lot of different species. Whether theyâ€™re furry\, feathered\, or scaly\, lots of animals can have difficulties trying to navigate our urban...\n______________________________\nThis Event Downloaded From a Helios Calendar Powered Site
LOCATION:Youth Science Institute - Vasona Lake Park 333 Blossom Hill Road\, Los Gatos\, CA  
CATEGORIES:BayAreaScience.org Events
PRIORITY:0
TRANSP:TRANSPARENT
END:VEVENT
END:VCALENDAR