BEGIN:VCALENDAR
VERSION:2.0
METHOD:PUBLISH
CALSCALE:GREGORIAN
PRODID:-//Refresh Web Development//Helios Calendar//EN
X-FROM-URL:https://www.bayareascience.org/calendar/index.php?com=details&eID=34425
X-WR-RELCALID:BayAreaScience.org Eclipse Viewing Party 20231014T083000
X-WR-TIMEZONE:America/New_York
X-WR-CALNAME:BayAreaScience.org
BEGIN:VEVENT
URL;VALUE=URI:https://www.bayareascience.org/calendar/index.php?com=detail&eID=34425
DTSTART:20231014T083000
DTEND:20231014T100000
SUMMARY:Eclipse Viewing Party
DESCRIPTION:On October 14\, an annular solar eclipse will be visible across the United States. The Lawrence will have eclipse glasses for sale leading up to and during the eclipse. Join us for a viewing...\n______________________________\nThis Event Downloaded From a Helios Calendar Powered Site
LOCATION:Lawrence Hall of Science - 1 Centennial Drive \, Berkeley\, CA USA 94720
CATEGORIES:BayAreaScience.org Events
PRIORITY:0
TRANSP:TRANSPARENT
END:VEVENT
END:VCALENDAR