BEGIN:VCALENDAR
VERSION:2.0
METHOD:PUBLISH
CALSCALE:GREGORIAN
PRODID:-//Refresh Web Development//Helios Calendar//EN
X-FROM-URL:https://www.bayareascience.org/calendar/index.php?com=details&eID=34426
X-WR-RELCALID:BayAreaScience.org Creepy, Happy Halloween 20230829T100000
X-WR-TIMEZONE:America/New_York
X-WR-CALNAME:BayAreaScience.org
BEGIN:VEVENT
URL;VALUE=URI:https://www.bayareascience.org/calendar/index.php?com=detail&eID=34426
DTSTART:20230829T100000
DTEND:20230829T170000
SUMMARY:Creepy\, Happy Halloween
DESCRIPTION:Our annual Halloween party is back! Visitors wearing a costume can get free tickets to 3D films or Planetarium shows. Plus\, meet creepy crawly critters in our Animal Discovery Zone\, and learn...\n______________________________\nThis Event Downloaded From a Helios Calendar Powered Site
LOCATION:Lawrence Hall of Science - 1 Centennial Drive \, Berkeley\, CA USA 94720
CATEGORIES:BayAreaScience.org Events
PRIORITY:0
TRANSP:TRANSPARENT
END:VEVENT
END:VCALENDAR