BEGIN:VCALENDAR
VERSION:2.0
METHOD:PUBLISH
CALSCALE:GREGORIAN
PRODID:-//Refresh Web Development//Helios Calendar//EN
X-FROM-URL:https://www.bayareascience.org/calendar/index.php?com=details&eID=34428
X-WR-RELCALID:BayAreaScience.org  100 Years to Thrive: Designing Longer and Wealthier Lives 20230914T173000
X-WR-TIMEZONE:America/New_York
X-WR-CALNAME:BayAreaScience.org
BEGIN:VEVENT
URL;VALUE=URI:https://www.bayareascience.org/calendar/index.php?com=detail&eID=34428
DTSTART:20230914T173000
DTEND:20230914T190000
SUMMARY: 100 Years to Thrive: Designing Longer and Wealthier Lives
DESCRIPTION:Feel like you are always running out of time? What would you do differently with an extra 25 years of longevity to build a fulfilled life?Please join us for a conversation on making the...\n______________________________\nThis Event Downloaded From a Helios Calendar Powered Site
LOCATION:Commonwealth Club - 110 The Embarcadero \, San Francisco\, CA  94105
CATEGORIES:BayAreaScience.org Events
PRIORITY:0
TRANSP:TRANSPARENT
END:VEVENT
END:VCALENDAR