BEGIN:VCALENDAR
VERSION:2.0
METHOD:PUBLISH
CALSCALE:GREGORIAN
PRODID:-//Refresh Web Development//Helios Calendar//EN
X-FROM-URL:https://www.bayareascience.org/calendar/index.php?com=details&eID=34438
X-WR-RELCALID:BayAreaScience.org  Xenopocene: The First 10,000 Days After First Contact - Livestream 20230817T143000
X-WR-TIMEZONE:America/New_York
X-WR-CALNAME:BayAreaScience.org
BEGIN:VEVENT
URL;VALUE=URI:https://www.bayareascience.org/calendar/index.php?com=detail&eID=34438
DTSTART:20230817T143000
DTEND:20230817T150000
SUMMARY: Xenopocene: The First 10\,000 Days After First Contact - Livestream
DESCRIPTION:A conversation with DaedelusSETI Artist-in-Residence (AIR) Daedelus imagines the first 10\,000 days after first contact with an alien civilization and puts those imaginings to music. Daedelus...\n______________________________\nThis Event Downloaded From a Helios Calendar Powered Site
LOCATION:SETI Institute -  \, \, CA  
CATEGORIES:BayAreaScience.org Events
PRIORITY:0
TRANSP:TRANSPARENT
END:VEVENT
END:VCALENDAR