BEGIN:VCALENDAR
VERSION:2.0
METHOD:PUBLISH
CALSCALE:GREGORIAN
PRODID:-//Refresh Web Development//Helios Calendar//EN
X-FROM-URL:https://www.bayareascience.org/calendar/index.php?com=details&eID=34442
X-WR-RELCALID:BayAreaScience.org Astronomy on Tap Santa Cruz: Transients and the Ever-Changing Sky 20230824T183000
X-WR-TIMEZONE:America/New_York
X-WR-CALNAME:BayAreaScience.org
BEGIN:VEVENT
URL;VALUE=URI:https://www.bayareascience.org/calendar/index.php?com=detail&eID=34442
DTSTART:20230824T183000
DTEND:20230824T183000
SUMMARY:Astronomy on Tap Santa Cruz: Transients and the Ever-Changing Sky
DESCRIPTION:Supernovae! Neutron star mergers! What do these have in common? They are whatâ€™s known as â€¦ Transients! Short\, dramatic and energetic events that occur on human timescales. Many things...\n______________________________\nThis Event Downloaded From a Helios Calendar Powered Site
LOCATION:Humble Sea Brewing Co - 820 Swift St \, Santa Cruz\, CA  95060
CATEGORIES:BayAreaScience.org Events
PRIORITY:0
TRANSP:TRANSPARENT
END:VEVENT
END:VCALENDAR