BEGIN:VCALENDAR
VERSION:2.0
METHOD:PUBLISH
CALSCALE:GREGORIAN
PRODID:-//Refresh Web Development//Helios Calendar//EN
X-FROM-URL:https://www.bayareascience.org/calendar/index.php?com=details&eID=34444
X-WR-RELCALID:BayAreaScience.org Nerd Nite SF #136: Maggot Therapy, Waves, & Your Brain on Exercise!  20230920T200000
X-WR-TIMEZONE:America/New_York
X-WR-CALNAME:BayAreaScience.org
BEGIN:VEVENT
URL;VALUE=URI:https://www.bayareascience.org/calendar/index.php?com=detail&eID=34444
DTSTART:20230920T200000
DTEND:20230920T220000
SUMMARY:Nerd Nite SF #136: Maggot Therapy\, Waves\, & Your Brain on Exercise! 
DESCRIPTION:The World is Made of Waves by Yousef HindyWaves are all around us in ways that we may not even realize. They are how we humans perceive and interact with the world\,...\n______________________________\nThis Event Downloaded From a Helios Calendar Powered Site
LOCATION:Rickshaw Stop - 155 Fell St. @ Van Ness \, San Francisco\, CA  94102
CATEGORIES:BayAreaScience.org Events
PRIORITY:0
TRANSP:TRANSPARENT
END:VEVENT
END:VCALENDAR