BEGIN:VCALENDAR
VERSION:2.0
METHOD:PUBLISH
CALSCALE:GREGORIAN
PRODID:-//Refresh Web Development//Helios Calendar//EN
X-FROM-URL:https://www.bayareascience.org/calendar/index.php?com=details&eID=34453
X-WR-RELCALID:BayAreaScience.org SCVAS Learn: Warblers 2023 - Part 1 - Rare and Regular - Livestream 20230918T190000
X-WR-TIMEZONE:America/New_York
X-WR-CALNAME:BayAreaScience.org
BEGIN:VEVENT
URL;VALUE=URI:https://www.bayareascience.org/calendar/index.php?com=detail&eID=34453
DTSTART:20230918T190000
DTEND:20230918T203000
SUMMARY:SCVAS Learn: Warblers 2023 - Part 1 - Rare and Regular - Livestream
DESCRIPTION:The fall migration of Warblers is an exciting event for birders. It can also daunting because many of these tiny tree-top insectivores lack the distinctive breeding plumage that makes them so memorable....\n______________________________\nThis Event Downloaded From a Helios Calendar Powered Site
LOCATION:Santa Clara Valley Audubon Society -  \, \, CA  
CATEGORIES:BayAreaScience.org Events
PRIORITY:0
TRANSP:TRANSPARENT
END:VEVENT
END:VCALENDAR