BEGIN:VCALENDAR
VERSION:2.0
METHOD:PUBLISH
CALSCALE:GREGORIAN
PRODID:-//Refresh Web Development//Helios Calendar//EN
X-FROM-URL:https://www.bayareascience.org/calendar/index.php?com=details&eID=34457
X-WR-RELCALID:BayAreaScience.org Stewardship Saturday: Studying Marine Mammals in Elkhorn Slough 20230930T090000
X-WR-TIMEZONE:America/New_York
X-WR-CALNAME:BayAreaScience.org
BEGIN:VEVENT
URL;VALUE=URI:https://www.bayareascience.org/calendar/index.php?com=detail&eID=34457
DTSTART:20230930T090000
DTEND:20230930T132000
SUMMARY:Stewardship Saturday: Studying Marine Mammals in Elkhorn Slough
DESCRIPTION:Traverse Moss Landingâ€™s Elkhorn Slough with The Marine Mammal Center\, Kayak Connection\, and the Monterey Bay Aquariumâ€™s Sea Otter Rehabilitation Team! Through this event you will...\n______________________________\nThis Event Downloaded From a Helios Calendar Powered Site
LOCATION:Kayak Connection - 2370 California 1 \, Moss Landing\, CA  95039
CATEGORIES:BayAreaScience.org Events
PRIORITY:0
TRANSP:TRANSPARENT
END:VEVENT
END:VCALENDAR