BEGIN:VCALENDAR
VERSION:2.0
METHOD:PUBLISH
CALSCALE:GREGORIAN
PRODID:-//Refresh Web Development//Helios Calendar//EN
X-FROM-URL:https://www.bayareascience.org/calendar/index.php?com=details&eID=34458
X-WR-RELCALID:BayAreaScience.org AGU23 Wide. Open. Science. 20231211
X-WR-TIMEZONE:America/New_York
X-WR-CALNAME:BayAreaScience.org
BEGIN:VEVENT
URL;VALUE=URI:https://www.bayareascience.org/calendar/index.php?com=detail&eID=34458
DTSTART;VALUE=DATE:20231211
DTEND;VALUE=DATE:20231212
SUMMARY:AGU23 Wide. Open. Science.
DESCRIPTION:For more than 100 years AGU has been opening science - opening pathways to discovery\, opening greater awareness to address climate change\, opening greater collaborations to lead to solutions and...\n______________________________\nThis Event Downloaded From a Helios Calendar Powered Site
LOCATION:Moscone Center West - 747 Howard Street \, San Francisco\, CA  94103
CATEGORIES:BayAreaScience.org Events
PRIORITY:0
TRANSP:TRANSPARENT
END:VEVENT
END:VCALENDAR