BEGIN:VCALENDAR
VERSION:2.0
METHOD:PUBLISH
CALSCALE:GREGORIAN
PRODID:-//Refresh Web Development//Helios Calendar//EN
X-FROM-URL:https://www.bayareascience.org/calendar/index.php?com=details&eID=34465
X-WR-RELCALID:BayAreaScience.org Science is a Piece of Cake: A Geology Bake-Off 20230928T190000
X-WR-TIMEZONE:America/New_York
X-WR-CALNAME:BayAreaScience.org
BEGIN:VEVENT
URL;VALUE=URI:https://www.bayareascience.org/calendar/index.php?com=detail&eID=34465
DTSTART:20230928T190000
DTEND:20230928T210000
SUMMARY:Science is a Piece of Cake: A Geology Bake-Off
DESCRIPTION:Do you know your Bay Area geology? Learn about all the bizarre\, gorgeous and really freaking old formations via ... cake! KQED's Check\, Please! Bay Area Producer Cecilia Phillips\, in partnership...\n______________________________\nThis Event Downloaded From a Helios Calendar Powered Site
LOCATION:KQED Headquarters - 2601 Mariposa Street \, San Francisco\, CA  94110
CATEGORIES:BayAreaScience.org Events
PRIORITY:0
TRANSP:TRANSPARENT
END:VEVENT
END:VCALENDAR