BEGIN:VCALENDAR
VERSION:2.0
METHOD:PUBLISH
CALSCALE:GREGORIAN
PRODID:-//Refresh Web Development//Helios Calendar//EN
X-FROM-URL:https://www.bayareascience.org/calendar/index.php?com=details&eID=34466
X-WR-RELCALID:BayAreaScience.org Cyber Defending Taiwan: Lessons from Ukraine 20230929T100000
X-WR-TIMEZONE:America/New_York
X-WR-CALNAME:BayAreaScience.org
BEGIN:VEVENT
URL;VALUE=URI:https://www.bayareascience.org/calendar/index.php?com=detail&eID=34466
DTSTART:20230929T100000
DTEND:20230929T150000
SUMMARY:Cyber Defending Taiwan: Lessons from Ukraine
DESCRIPTION:Deepening Taiwanâ€™s defense and resilience in the cyber domain is key to advancing diplomatic solutions to the rising geopolitical tensions with China in the region.This one-day conference...\n______________________________\nThis Event Downloaded From a Helios Calendar Powered Site
LOCATION:Bancroft Hotel - 2680 Bancroft Way Great Hall\, Berkeley\, CA  94704
CATEGORIES:BayAreaScience.org Events
PRIORITY:0
TRANSP:TRANSPARENT
END:VEVENT
END:VCALENDAR