BEGIN:VCALENDAR
VERSION:2.0
METHOD:PUBLISH
CALSCALE:GREGORIAN
PRODID:-//Refresh Web Development//Helios Calendar//EN
X-FROM-URL:https://www.bayareascience.org/calendar/index.php?com=details&eID=34468
X-WR-RELCALID:BayAreaScience.org  Prey-go-neesh Nes-kwe-chohl: California Condors Return to Yurok Country - Livestream 20231116T190000
X-WR-TIMEZONE:America/New_York
X-WR-CALNAME:BayAreaScience.org
BEGIN:VEVENT
URL;VALUE=URI:https://www.bayareascience.org/calendar/index.php?com=detail&eID=34468
DTSTART:20231116T190000
DTEND:20231116T190000
SUMMARY: Prey-go-neesh Nes-kwe-chohl: California Condors Return to Yurok Country - Livestream
DESCRIPTION:Tiana...\n______________________________\nThis Event Downloaded From a Helios Calendar Powered Site
LOCATION:Golden Gate Audubon Society -  \, \, CA  
CATEGORIES:BayAreaScience.org Events
PRIORITY:0
TRANSP:TRANSPARENT
END:VEVENT
END:VCALENDAR