BEGIN:VCALENDAR
VERSION:2.0
METHOD:PUBLISH
CALSCALE:GREGORIAN
PRODID:-//Refresh Web Development//Helios Calendar//EN
X-FROM-URL:https://www.bayareascience.org/calendar/index.php?com=details&eID=34469
X-WR-RELCALID:BayAreaScience.org Archaeology and Ecological Crisis: Lessons in Sustainability from the Past 20231025T193000
X-WR-TIMEZONE:America/New_York
X-WR-CALNAME:BayAreaScience.org
BEGIN:VEVENT
URL;VALUE=URI:https://www.bayareascience.org/calendar/index.php?com=detail&eID=34469
DTSTART:20231025T193000
DTEND:20231025T203000
SUMMARY:Archaeology and Ecological Crisis: Lessons in Sustainability from the Past
DESCRIPTION:The world today is facing a variety of ecological crises and to combat these crises\, policymakers are working hard to promote sustainability. While rarely included in policy discussions\, archaeology...\n______________________________\nThis Event Downloaded From a Helios Calendar Powered Site
LOCATION:Marin Science Seminar - 320 Nova Albion Way Terra Linda High School Innovation Hub 1st Floor\, San Rafael\, CA USA 94903
CATEGORIES:BayAreaScience.org Events
PRIORITY:0
TRANSP:TRANSPARENT
END:VEVENT
END:VCALENDAR