BEGIN:VCALENDAR
VERSION:2.0
METHOD:PUBLISH
CALSCALE:GREGORIAN
PRODID:-//Refresh Web Development//Helios Calendar//EN
X-FROM-URL:https://www.bayareascience.org/calendar/index.php?com=details&eID=34476
X-WR-RELCALID:BayAreaScience.org Frank Drake Award Ceremonies: Open to Everyone 20230914T180000
X-WR-TIMEZONE:America/New_York
X-WR-CALNAME:BayAreaScience.org
BEGIN:VEVENT
URL;VALUE=URI:https://www.bayareascience.org/calendar/index.php?com=detail&eID=34476
DTSTART:20230914T180000
DTEND:20230914T210000
SUMMARY:Frank Drake Award Ceremonies: Open to Everyone
DESCRIPTION:HelpÂ celebrateÂ leaders in the search for life in the Universe - the recipient of the nonprofit SETI Instituteâ€™s Drake Award and the next generation of SETI scientists earning the SETI...\n______________________________\nThis Event Downloaded From a Helios Calendar Powered Site
LOCATION:SRI International - 333 Ravenswood Avenue International Building\, Menlo Park\, CA USA 94025
CATEGORIES:BayAreaScience.org Events
PRIORITY:0
TRANSP:TRANSPARENT
END:VEVENT
END:VCALENDAR