BEGIN:VCALENDAR
VERSION:2.0
METHOD:PUBLISH
CALSCALE:GREGORIAN
PRODID:-//Refresh Web Development//Helios Calendar//EN
X-FROM-URL:https://www.bayareascience.org/calendar/index.php?com=details&eID=34485
X-WR-RELCALID:BayAreaScience.org Fall Baylands Bioblitz 20231014T090000
X-WR-TIMEZONE:America/New_York
X-WR-CALNAME:BayAreaScience.org
BEGIN:VEVENT
URL;VALUE=URI:https://www.bayareascience.org/calendar/index.php?com=detail&eID=34485
DTSTART:20231014T090000
DTEND:20231014T110000
SUMMARY:Fall Baylands Bioblitz
DESCRIPTION:Join the BioBlitz.club and \n______________________________\nThis Event Downloaded From a Helios Calendar Powered Site
LOCATION:Environmental Volunteers EcoCenter - 2560 Embarcadero Road \, Palo Alto\, CA  94303
CATEGORIES:BayAreaScience.org Events
PRIORITY:0
TRANSP:TRANSPARENT
END:VEVENT
END:VCALENDAR