BEGIN:VCALENDAR
VERSION:2.0
METHOD:PUBLISH
CALSCALE:GREGORIAN
PRODID:-//Refresh Web Development//Helios Calendar//EN
X-FROM-URL:https://www.bayareascience.org/calendar/index.php?com=details&eID=34491
X-WR-RELCALID:BayAreaScience.org The Past and Future of Robotics & Machine Intelligence: 250 Years of Research Experience 20230905T120000
X-WR-TIMEZONE:America/New_York
X-WR-CALNAME:BayAreaScience.org
BEGIN:VEVENT
URL;VALUE=URI:https://www.bayareascience.org/calendar/index.php?com=detail&eID=34491
DTSTART:20230905T120000
DTEND:20230905T120000
SUMMARY:The Past and Future of Robotics & Machine Intelligence: 250 Years of Research Experience
DESCRIPTION:The Department of Electrical Engineering & Computer Sciences invites you to a special panel on AI led by Distinguished Professor Emerita Ruzena Bajcsy\, joined by colleagues Claire Tomlin\, Shankar...\n______________________________\nThis Event Downloaded From a Helios Calendar Powered Site
LOCATION:Sutardja Dai Hall - UC Berkeley Banatao Auditorium\, Berkeley\, CA  94720
CATEGORIES:BayAreaScience.org Events
PRIORITY:0
TRANSP:TRANSPARENT
END:VEVENT
END:VCALENDAR