BEGIN:VCALENDAR
VERSION:2.0
METHOD:PUBLISH
CALSCALE:GREGORIAN
PRODID:-//Refresh Web Development//Helios Calendar//EN
X-FROM-URL:https://www.bayareascience.org/calendar/index.php?com=details&eID=34494
X-WR-RELCALID:BayAreaScience.org  Volatile chemistry in planet-forming disks  20230829T160000
X-WR-TIMEZONE:America/New_York
X-WR-CALNAME:BayAreaScience.org
BEGIN:VEVENT
URL;VALUE=URI:https://www.bayareascience.org/calendar/index.php?com=detail&eID=34494
DTSTART:20230829T160000
DTEND:20230829T170000
SUMMARY: Volatile chemistry in planet-forming disks 
DESCRIPTION:Planets form within disks composed of gas\, ice\, and dust in orbit around young stars. The composition and distribution of volatiles (gas+ice) within these disks profoundly impacts both the chemical...\n______________________________\nThis Event Downloaded From a Helios Calendar Powered Site
LOCATION:Latimer Hall - UC Berkeley Room 120\, Berkeley\, CA  94720
CATEGORIES:BayAreaScience.org Events
PRIORITY:0
TRANSP:TRANSPARENT
END:VEVENT
END:VCALENDAR