BEGIN:VCALENDAR
VERSION:2.0
METHOD:PUBLISH
CALSCALE:GREGORIAN
PRODID:-//Refresh Web Development//Helios Calendar//EN
X-FROM-URL:https://www.bayareascience.org/calendar/index.php?com=details&eID=34498
X-WR-RELCALID:BayAreaScience.org Molecular-Scale Engineering of Stimuli-Responsive Polymer Hydrogels 20230827T140000
X-WR-TIMEZONE:America/New_York
X-WR-CALNAME:BayAreaScience.org
BEGIN:VEVENT
URL;VALUE=URI:https://www.bayareascience.org/calendar/index.php?com=detail&eID=34498
DTSTART:20230827T140000
DTEND:20230827T150000
SUMMARY:Molecular-Scale Engineering of Stimuli-Responsive Polymer Hydrogels
DESCRIPTION:Polymer hydrogels that respond to external stimuli including pH\, light\, and heat have attracted broad interest as soft materials with controlled release profiles\, 3D printability\, and sensing and...\n______________________________\nThis Event Downloaded From a Helios Calendar Powered Site
LOCATION:Physics North - UC Berkeley Room 2\, Berkeley\, CA  94720
CATEGORIES:BayAreaScience.org Events
PRIORITY:0
TRANSP:TRANSPARENT
END:VEVENT
END:VCALENDAR