BEGIN:VCALENDAR
VERSION:2.0
METHOD:PUBLISH
CALSCALE:GREGORIAN
PRODID:-//Refresh Web Development//Helios Calendar//EN
X-FROM-URL:https://www.bayareascience.org/calendar/index.php?com=details&eID=34499
X-WR-RELCALID:BayAreaScience.org Nanomaterials in 3D Functional Mesosystems: From Neural Interfaces to Environmental Monitors 20230929T140000
X-WR-TIMEZONE:America/New_York
X-WR-CALNAME:BayAreaScience.org
BEGIN:VEVENT
URL;VALUE=URI:https://www.bayareascience.org/calendar/index.php?com=detail&eID=34499
DTSTART:20230929T140000
DTEND:20230929T150000
SUMMARY:Nanomaterials in 3D Functional Mesosystems: From Neural Interfaces to Environmental Monitors
DESCRIPTION:Complex\, three dimensional (3D) micro/nanostructures in biology provide sophisticated\, essential functions in even the most basic forms of life. Compelling opportunities...\n______________________________\nThis Event Downloaded From a Helios Calendar Powered Site
LOCATION:Physics North - UC Berkeley Room 2\, Berkeley\, CA  94720
CATEGORIES:BayAreaScience.org Events
PRIORITY:0
TRANSP:TRANSPARENT
END:VEVENT
END:VCALENDAR