BEGIN:VCALENDAR
VERSION:2.0
METHOD:PUBLISH
CALSCALE:GREGORIAN
PRODID:-//Refresh Web Development//Helios Calendar//EN
X-FROM-URL:https://www.bayareascience.org/calendar/index.php?com=details&eID=34504
X-WR-RELCALID:BayAreaScience.org Understanding Food Loss and Waste 20231017T120000
X-WR-TIMEZONE:America/New_York
X-WR-CALNAME:BayAreaScience.org
BEGIN:VEVENT
URL;VALUE=URI:https://www.bayareascience.org/calendar/index.php?com=detail&eID=34504
DTSTART:20231017T120000
DTEND:20231017T130000
SUMMARY:Understanding Food Loss and Waste
DESCRIPTION:Food that is lost or wasted on its journey from farm to fork creates the potent greenhouse gas methane and results in lost environmental resources\, energy\, and economic...\n______________________________\nThis Event Downloaded From a Helios Calendar Powered Site
LOCATION:Acterra -  \, \, CA  
CATEGORIES:BayAreaScience.org Events
PRIORITY:0
TRANSP:TRANSPARENT
END:VEVENT
END:VCALENDAR