BEGIN:VCALENDAR
VERSION:2.0
METHOD:PUBLISH
CALSCALE:GREGORIAN
PRODID:-//Refresh Web Development//Helios Calendar//EN
X-FROM-URL:https://www.bayareascience.org/calendar/index.php?com=details&eID=34512
X-WR-RELCALID:BayAreaScience.org Bay Area Skeptics: HANGINâ€™ OUT with Leonard Tramiel at Chabot Space & Science Center 20230910T100000
X-WR-TIMEZONE:America/New_York
X-WR-CALNAME:BayAreaScience.org
BEGIN:VEVENT
URL;VALUE=URI:https://www.bayareascience.org/calendar/index.php?com=detail&eID=34512
DTSTART:20230910T100000
DTEND:20230910T122000
SUMMARY:Bay Area Skeptics: HANGINâ€™ OUT with Leonard Tramiel at Chabot Space & Science Center
DESCRIPTION:Leonard Tramiel\, Ph.D. physics\, has been a volunteer docent at Chabot Space and Science Center since 2000. Lots to see\, including a Soyuz capsule that illustrates better than anything else why...\n______________________________\nThis Event Downloaded From a Helios Calendar Powered Site
LOCATION:Chabot Space and Science Center - 10000 Skyline Blvd \, Oakland\, CA USA 94619
CATEGORIES:BayAreaScience.org Events
PRIORITY:0
TRANSP:TRANSPARENT
END:VEVENT
END:VCALENDAR