BEGIN:VCALENDAR
VERSION:2.0
METHOD:PUBLISH
CALSCALE:GREGORIAN
PRODID:-//Refresh Web Development//Helios Calendar//EN
X-FROM-URL:https://www.bayareascience.org/calendar/index.php?com=details&eID=34519
X-WR-RELCALID:BayAreaScience.org Combating Psychic Fraud - Livestream 20230909T113000
X-WR-TIMEZONE:America/New_York
X-WR-CALNAME:BayAreaScience.org
BEGIN:VEVENT
URL;VALUE=URI:https://www.bayareascience.org/calendar/index.php?com=detail&eID=34519
DTSTART:20230909T113000
DTEND:20230909T133000
SUMMARY:Combating Psychic Fraud - Livestream
DESCRIPTION:The Society of American Magicians (S.A.M.) is the oldest fraternal magic organization in the world\, founded in 1902.Based in part on his own experiences with psychics attempting to contact...\n______________________________\nThis Event Downloaded From a Helios Calendar Powered Site
LOCATION:Bay Area Skeptics -  \, \, CA  
CATEGORIES:BayAreaScience.org Events
PRIORITY:0
TRANSP:TRANSPARENT
END:VEVENT
END:VCALENDAR