BEGIN:VCALENDAR
VERSION:2.0
METHOD:PUBLISH
CALSCALE:GREGORIAN
PRODID:-//Refresh Web Development//Helios Calendar//EN
X-FROM-URL:https://www.bayareascience.org/calendar/index.php?com=details&eID=34521
X-WR-RELCALID:BayAreaScience.org  Hacking for Impact (H4I): University students solving real-world environmental challenges at the speed of a start-up - Livestream 20231101T110000
X-WR-TIMEZONE:America/New_York
X-WR-CALNAME:BayAreaScience.org
BEGIN:VEVENT
URL;VALUE=URI:https://www.bayareascience.org/calendar/index.php?com=detail&eID=34521
DTSTART:20231101T110000
DTEND:20231101T120000
SUMMARY: Hacking for Impact (H4I): University students solving real-world environmental challenges at the speed of a start-up - Livestream
DESCRIPTION:In a world facing pressing environmental challenges\, innovative and rapid solutions are more critical than ever. The seminar â€œHacking for Impact (H4I)â€ delves...\n______________________________\nThis Event Downloaded From a Helios Calendar Powered Site
LOCATION:Monterey Bay Aquarium Research Institute -  \, \, CA  
CATEGORIES:BayAreaScience.org Events
PRIORITY:0
TRANSP:TRANSPARENT
END:VEVENT
END:VCALENDAR