BEGIN:VCALENDAR
VERSION:2.0
METHOD:PUBLISH
CALSCALE:GREGORIAN
PRODID:-//Refresh Web Development//Helios Calendar//EN
X-FROM-URL:https://www.bayareascience.org/calendar/index.php?com=details&eID=34530
X-WR-RELCALID:BayAreaScience.org The future of Eastern Boundary Upwelling Systems: from observations to management 20230927T110000
X-WR-TIMEZONE:America/New_York
X-WR-CALNAME:BayAreaScience.org
BEGIN:VEVENT
URL;VALUE=URI:https://www.bayareascience.org/calendar/index.php?com=detail&eID=34530
DTSTART:20230927T110000
DTEND:20230927T120000
SUMMARY:The future of Eastern Boundary Upwelling Systems: from observations to management
DESCRIPTION:Join us for the John & Mary Louise Riley Seminar Series\, featuring speakers from within the marine sciences community and beyond.\n______________________________\nThis Event Downloaded From a Helios Calendar Powered Site
LOCATION:Coastal and Marine Sciences Institute -  \, \, CA  
CATEGORIES:BayAreaScience.org Events
PRIORITY:0
TRANSP:TRANSPARENT
END:VEVENT
END:VCALENDAR