BEGIN:VCALENDAR
VERSION:2.0
METHOD:PUBLISH
CALSCALE:GREGORIAN
PRODID:-//Refresh Web Development//Helios Calendar//EN
X-FROM-URL:https://www.bayareascience.org/calendar/index.php?com=details&eID=34535
X-WR-RELCALID:BayAreaScience.org Leveraging old monitoring programs for new insights into San Francisco Estuary temperature trends - Livestream 20231101T110000
X-WR-TIMEZONE:America/New_York
X-WR-CALNAME:BayAreaScience.org
BEGIN:VEVENT
URL;VALUE=URI:https://www.bayareascience.org/calendar/index.php?com=detail&eID=34535
DTSTART:20231101T110000
DTEND:20231101T120000
SUMMARY:Leveraging old monitoring programs for new insights into San Francisco Estuary temperature trends - Livestream
DESCRIPTION:Speaker: Sam Bashevkin - Environmental Program Manager\, CA State Water Resources Control Board\n______________________________\nThis Event Downloaded From a Helios Calendar Powered Site
LOCATION:Coastal and Marine Sciences Institute -  \, \, CA  
CATEGORIES:BayAreaScience.org Events
PRIORITY:0
TRANSP:TRANSPARENT
END:VEVENT
END:VCALENDAR