BEGIN:VCALENDAR
VERSION:2.0
METHOD:PUBLISH
CALSCALE:GREGORIAN
PRODID:-//Refresh Web Development//Helios Calendar//EN
X-FROM-URL:https://www.bayareascience.org/calendar/index.php?com=details&eID=34540
X-WR-RELCALID:BayAreaScience.org Clearview AI, Facial Recognition Technology, and Threats to Our Privacy 20231003T180000
X-WR-TIMEZONE:America/New_York
X-WR-CALNAME:BayAreaScience.org
BEGIN:VEVENT
URL;VALUE=URI:https://www.bayareascience.org/calendar/index.php?com=detail&eID=34540
DTSTART:20231003T180000
DTEND:20231003T193000
SUMMARY:Clearview AI\, Facial Recognition Technology\, and Threats to Our Privacy
DESCRIPTION:Are you one in a million? One in a billion? What if an app could pick you out of a crowd based on your face alone?New York Times tech reporter Kashmir Hill was skeptical when she got a tip...\n______________________________\nThis Event Downloaded From a Helios Calendar Powered Site
LOCATION:Commonwealth Club - 110 The Embarcadero \, San Francisco\, CA  94105
CATEGORIES:BayAreaScience.org Events
PRIORITY:0
TRANSP:TRANSPARENT
END:VEVENT
END:VCALENDAR