BEGIN:VCALENDAR
VERSION:2.0
METHOD:PUBLISH
CALSCALE:GREGORIAN
PRODID:-//Refresh Web Development//Helios Calendar//EN
X-FROM-URL:https://www.bayareascience.org/calendar/index.php?com=details&eID=34548
X-WR-RELCALID:BayAreaScience.org Geothermal Energy Research Within the USGS: Goldilocks to Electricity With Earthquakes in Between - Livestream 20230928T180000
X-WR-TIMEZONE:America/New_York
X-WR-CALNAME:BayAreaScience.org
BEGIN:VEVENT
URL;VALUE=URI:https://www.bayareascience.org/calendar/index.php?com=detail&eID=34548
DTSTART:20230928T180000
DTEND:20230928T193000
SUMMARY:Geothermal Energy Research Within the USGS: Goldilocks to Electricity With Earthquakes in Between - Livestream
DESCRIPTION:Â Geologic...\n______________________________\nThis Event Downloaded From a Helios Calendar Powered Site
LOCATION:US Geological Survey Public Lecture Series -  \, \, CA  
CATEGORIES:BayAreaScience.org Events
PRIORITY:0
TRANSP:TRANSPARENT
END:VEVENT
END:VCALENDAR