BEGIN:VCALENDAR
VERSION:2.0
METHOD:PUBLISH
CALSCALE:GREGORIAN
PRODID:-//Refresh Web Development//Helios Calendar//EN
X-FROM-URL:https://www.bayareascience.org/calendar/index.php?com=details&eID=34554
X-WR-RELCALID:BayAreaScience.org From Astronomical Research to Communicating Astronomy 20231106T160000
X-WR-TIMEZONE:America/New_York
X-WR-CALNAME:BayAreaScience.org
BEGIN:VEVENT
URL;VALUE=URI:https://www.bayareascience.org/calendar/index.php?com=detail&eID=34554
DTSTART:20231106T160000
DTEND:20231106T170000
SUMMARY:From Astronomical Research to Communicating Astronomy
DESCRIPTION:Astronomy\, sometimes considered a gateway science\, can stir great curiosity and inspire students to pursue a STEM-related career. I was trained as an astronomer specialized in spectroscopy of distant...\n______________________________\nThis Event Downloaded From a Helios Calendar Powered Site
LOCATION:Sonoma State University - What Physicists Do - 1801 E. Cotati Ave. Darwin Hall\, Room 103\, Rohnert Park\, CA USA 94928
CATEGORIES:BayAreaScience.org Events
PRIORITY:0
TRANSP:TRANSPARENT
END:VEVENT
END:VCALENDAR