BEGIN:VCALENDAR
VERSION:2.0
METHOD:PUBLISH
CALSCALE:GREGORIAN
PRODID:-//Refresh Web Development//Helios Calendar//EN
X-FROM-URL:https://www.bayareascience.org/calendar/index.php?com=details&eID=34560
X-WR-RELCALID:BayAreaScience.org Jobs, Truth, and AI: Where do we go from here? 20230919T180000
X-WR-TIMEZONE:America/New_York
X-WR-CALNAME:BayAreaScience.org
BEGIN:VEVENT
URL;VALUE=URI:https://www.bayareascience.org/calendar/index.php?com=detail&eID=34560
DTSTART:20230919T180000
DTEND:20230919T200000
SUMMARY:Jobs\, Truth\, and AI: Where do we go from here?
DESCRIPTION:Join Lexi Reese\, Democratic Candidate for US Senate from California and the only technology leader in the race\, and Kent Beck\, original signer of the Agile Manifesto and author of the Extreme Programming...\n______________________________\nThis Event Downloaded From a Helios Calendar Powered Site
LOCATION:Manny's - 3092 16th St \, San Francisco\, CA  94103
CATEGORIES:BayAreaScience.org Events
PRIORITY:0
TRANSP:TRANSPARENT
END:VEVENT
END:VCALENDAR