BEGIN:VCALENDAR
VERSION:2.0
METHOD:PUBLISH
CALSCALE:GREGORIAN
PRODID:-//Refresh Web Development//Helios Calendar//EN
X-FROM-URL:https://www.bayareascience.org/calendar/index.php?com=details&eID=34561
X-WR-RELCALID:BayAreaScience.org Revolutionizing Risk: How Sensors, Data and AI Are Reshaping the Insurance 20230905T170000
X-WR-TIMEZONE:America/New_York
X-WR-CALNAME:BayAreaScience.org
BEGIN:VEVENT
URL;VALUE=URI:https://www.bayareascience.org/calendar/index.php?com=detail&eID=34561
DTSTART:20230905T170000
DTEND:20230905T193000
SUMMARY:Revolutionizing Risk: How Sensors\, Data and AI Are Reshaping the Insurance
DESCRIPTION:Insurance is one of the world's most ancient businesses. It is also the cornerstone that holds economies firm. Yet\, as the number of sensors and the amount of data continue is on the brink of an...\n______________________________\nThis Event Downloaded From a Helios Calendar Powered Site
LOCATION:New York Life Insurance Company - 425 Market St #1600\, San Francisco\, CA  94105
CATEGORIES:BayAreaScience.org Events
PRIORITY:0
TRANSP:TRANSPARENT
END:VEVENT
END:VCALENDAR