BEGIN:VCALENDAR
VERSION:2.0
METHOD:PUBLISH
CALSCALE:GREGORIAN
PRODID:-//Refresh Web Development//Helios Calendar//EN
X-FROM-URL:https://www.bayareascience.org/calendar/index.php?com=details&eID=34567
X-WR-RELCALID:BayAreaScience.org Exploring Health and Environment: Navigating Chemicals in Our Everyday Lives 20231011T170000
X-WR-TIMEZONE:America/New_York
X-WR-CALNAME:BayAreaScience.org
BEGIN:VEVENT
URL;VALUE=URI:https://www.bayareascience.org/calendar/index.php?com=detail&eID=34567
DTSTART:20231011T170000
DTEND:20231011T193000
SUMMARY:Exploring Health and Environment: Navigating Chemicals in Our Everyday Lives
DESCRIPTION:The presentation delves into the...\n______________________________\nThis Event Downloaded From a Helios Calendar Powered Site
LOCATION:4D Molecular Theraputics - 5959 Horton St \, Emeryville\, CA  94608
CATEGORIES:BayAreaScience.org Events
PRIORITY:0
TRANSP:TRANSPARENT
END:VEVENT
END:VCALENDAR