BEGIN:VCALENDAR
VERSION:2.0
METHOD:PUBLISH
CALSCALE:GREGORIAN
PRODID:-//Refresh Web Development//Helios Calendar//EN
X-FROM-URL:https://www.bayareascience.org/calendar/index.php?com=details&eID=34570
X-WR-RELCALID:BayAreaScience.org First Friday: Science Obscura 20231103T180000
X-WR-TIMEZONE:America/New_York
X-WR-CALNAME:BayAreaScience.org
BEGIN:VEVENT
URL;VALUE=URI:https://www.bayareascience.org/calendar/index.php?com=detail&eID=34570
DTSTART:20231103T180000
DTEND:20231103T220000
SUMMARY:First Friday: Science Obscura
DESCRIPTION:Did you know there are scientists that study glowing organisms\, a whole agency looking for alien life\, and people that are designated asteroid hunters? This First Friday we will explore the surprising...\n______________________________\nThis Event Downloaded From a Helios Calendar Powered Site
LOCATION:Chabot Space and Science Center - 10000 Skyline Blvd \, Oakland\, CA USA 94619
CATEGORIES:BayAreaScience.org Events
PRIORITY:0
TRANSP:TRANSPARENT
END:VEVENT
END:VCALENDAR