BEGIN:VCALENDAR
VERSION:2.0
METHOD:PUBLISH
CALSCALE:GREGORIAN
PRODID:-//Refresh Web Development//Helios Calendar//EN
X-FROM-URL:https://www.bayareascience.org/calendar/index.php?com=details&eID=34571
X-WR-RELCALID:BayAreaScience.org Small-group walk with two goals: search for fall birds, learn about leaf galls and miners along Cerrito Creek 20230930T100000
X-WR-TIMEZONE:America/New_York
X-WR-CALNAME:BayAreaScience.org
BEGIN:VEVENT
URL;VALUE=URI:https://www.bayareascience.org/calendar/index.php?com=detail&eID=34571
DTSTART:20230930T100000
DTEND:20230930T123000
SUMMARY:Small-group walk with two goals: search for fall birds\, learn about leaf galls and miners along Cerrito Creek
DESCRIPTION:Our nature-observation walks using free citizen-science apps resume Sat.\, Sept. 30\, with an easy stroll along Cerrito Creek at the foot of Albany Hill.Â  We'll look for birds returning for fall...\n______________________________\nThis Event Downloaded From a Helios Calendar Powered Site
LOCATION:Creekside Park -  \, Albany\, CA  94706
CATEGORIES:BayAreaScience.org Events
PRIORITY:0
TRANSP:TRANSPARENT
END:VEVENT
END:VCALENDAR