BEGIN:VCALENDAR
VERSION:2.0
METHOD:PUBLISH
CALSCALE:GREGORIAN
PRODID:-//Refresh Web Development//Helios Calendar//EN
X-FROM-URL:https://www.bayareascience.org/calendar/index.php?com=details&eID=34575
X-WR-RELCALID:BayAreaScience.org Holiday Mineral and Gem Sale 20231119T100000
X-WR-TIMEZONE:America/New_York
X-WR-CALNAME:BayAreaScience.org
BEGIN:VEVENT
URL;VALUE=URI:https://www.bayareascience.org/calendar/index.php?com=detail&eID=34575
DTSTART:20231119T100000
DTEND:20231119T170000
SUMMARY:Holiday Mineral and Gem Sale
DESCRIPTION:Santa Cruz Mineral and Gem Society annual holiday sale by members of the club. Come and see wonderful gifts of nature and art - gems\, jewelry\, rocks\, minerals\, and lapidary arts. Browse the bargains...\n______________________________\nThis Event Downloaded From a Helios Calendar Powered Site
LOCATION:Santa Cruz Live Oak Grange - 1900 17th Ave. \, Santa Cruz\, CA USA 95073
CATEGORIES:BayAreaScience.org Events
PRIORITY:0
TRANSP:TRANSPARENT
END:VEVENT
END:VCALENDAR