BEGIN:VCALENDAR
VERSION:2.0
METHOD:PUBLISH
CALSCALE:GREGORIAN
PRODID:-//Refresh Web Development//Helios Calendar//EN
X-FROM-URL:https://www.bayareascience.org/calendar/index.php?com=details&eID=34582
X-WR-RELCALID:BayAreaScience.org Resilient Societies: Silicon Valley's Reinvention 20231010T163000
X-WR-TIMEZONE:America/New_York
X-WR-CALNAME:BayAreaScience.org
BEGIN:VEVENT
URL;VALUE=URI:https://www.bayareascience.org/calendar/index.php?com=detail&eID=34582
DTSTART:20231010T163000
DTEND:20231010T180000
SUMMARY:Resilient Societies: Silicon Valley's Reinvention
DESCRIPTION:Over the past decade\, tech companies have become new and powerful players on the international stage. Borderless digital platforms and cutting-edge innovations in biotech\, quantum computing\, and...\n______________________________\nThis Event Downloaded From a Helios Calendar Powered Site
LOCATION:ExplOratorium - Pier 15 (Embarcadero at Green Street)  \, San Francisco\, CA USA 94111
CATEGORIES:BayAreaScience.org Events
PRIORITY:0
TRANSP:TRANSPARENT
END:VEVENT
END:VCALENDAR