BEGIN:VCALENDAR
VERSION:2.0
METHOD:PUBLISH
CALSCALE:GREGORIAN
PRODID:-//Refresh Web Development//Helios Calendar//EN
X-FROM-URL:https://www.bayareascience.org/calendar/index.php?com=details&eID=34583
X-WR-RELCALID:BayAreaScience.org Advances in Nuclear Fusion: Conversation with a Plasma Physicist 20230913T180000
X-WR-TIMEZONE:America/New_York
X-WR-CALNAME:BayAreaScience.org
BEGIN:VEVENT
URL;VALUE=URI:https://www.bayareascience.org/calendar/index.php?com=detail&eID=34583
DTSTART:20230913T180000
DTEND:20230913T190000
SUMMARY:Advances in Nuclear Fusion: Conversation with a Plasma Physicist
DESCRIPTION:If you don't understand how nuclear fusion works\, that's totally okay!This event is for you.From what we know nuclear fusion has the potential to completely and radically change the...\n______________________________\nThis Event Downloaded From a Helios Calendar Powered Site
LOCATION:Manny's - 3092 16th St \, San Francisco\, CA  94103
CATEGORIES:BayAreaScience.org Events
PRIORITY:0
TRANSP:TRANSPARENT
END:VEVENT
END:VCALENDAR