BEGIN:VCALENDAR
VERSION:2.0
METHOD:PUBLISH
CALSCALE:GREGORIAN
PRODID:-//Refresh Web Development//Helios Calendar//EN
X-FROM-URL:https://www.bayareascience.org/calendar/index.php?com=details&eID=34585
X-WR-RELCALID:BayAreaScience.org 196 Days Off the Planet with Astronaut Dan Bursch 20230913T180000
X-WR-TIMEZONE:America/New_York
X-WR-CALNAME:BayAreaScience.org
BEGIN:VEVENT
URL;VALUE=URI:https://www.bayareascience.org/calendar/index.php?com=detail&eID=34585
DTSTART:20230913T180000
DTEND:20230913T200000
SUMMARY:196 Days Off the Planet with Astronaut Dan Bursch
DESCRIPTION:Dan Bursch will discuss the adventure of living in space during his stay on the International Space Station from December 2001 until June 2002. Through pictures and stories\, he will discuss the...\n______________________________\nThis Event Downloaded From a Helios Calendar Powered Site
LOCATION:Santa Clara University - 500 El Camino Real \, Santa Clara\, CA USA 95053
CATEGORIES:BayAreaScience.org Events
PRIORITY:0
TRANSP:TRANSPARENT
END:VEVENT
END:VCALENDAR