BEGIN:VCALENDAR
VERSION:2.0
METHOD:PUBLISH
CALSCALE:GREGORIAN
PRODID:-//Refresh Web Development//Helios Calendar//EN
X-FROM-URL:https://www.bayareascience.org/calendar/index.php?com=details&eID=34587
X-WR-RELCALID:BayAreaScience.org Astronomy on Tap Santa Cruz: Santa Cruz and the Edges of the Universe 20230921T183000
X-WR-TIMEZONE:America/New_York
X-WR-CALNAME:BayAreaScience.org
BEGIN:VEVENT
URL;VALUE=URI:https://www.bayareascience.org/calendar/index.php?com=detail&eID=34587
DTSTART:20230921T183000
DTEND:20230921T183000
SUMMARY:Astronomy on Tap Santa Cruz: Santa Cruz and the Edges of the Universe
DESCRIPTION:Come learn about how astronomers from Santa Cruz have used the James Webb Space Telescope (launched in late 2021 by NASA) to study exoplanets in our local neighborhood and to discover the most...\n______________________________\nThis Event Downloaded From a Helios Calendar Powered Site
LOCATION:Humble Sea Brewing Co - 820 Swift St \, Santa Cruz\, CA  95060
CATEGORIES:BayAreaScience.org Events
PRIORITY:0
TRANSP:TRANSPARENT
END:VEVENT
END:VCALENDAR