BEGIN:VCALENDAR
VERSION:2.0
METHOD:PUBLISH
CALSCALE:GREGORIAN
PRODID:-//Refresh Web Development//Helios Calendar//EN
X-FROM-URL:https://www.bayareascience.org/calendar/index.php?com=details&eID=34590
X-WR-RELCALID:BayAreaScience.org Stewardship Saturday: Being Sea Otter Savvy in Morro Bay 20231028T100000
X-WR-TIMEZONE:America/New_York
X-WR-CALNAME:BayAreaScience.org
BEGIN:VEVENT
URL;VALUE=URI:https://www.bayareascience.org/calendar/index.php?com=detail&eID=34590
DTSTART:20231028T100000
DTEND:20231028T160000
SUMMARY:Stewardship Saturday: Being Sea Otter Savvy in Morro Bay
DESCRIPTION:This free program for high school students features rotating themes exploring the science of the Center.Take to the water with The Marine Mammal Center\,...\n______________________________\nThis Event Downloaded From a Helios Calendar Powered Site
LOCATION:Morro Rock -  \, Morro Bay\, CA  93442
CATEGORIES:BayAreaScience.org Events
PRIORITY:0
TRANSP:TRANSPARENT
END:VEVENT
END:VCALENDAR