BEGIN:VCALENDAR
VERSION:2.0
METHOD:PUBLISH
CALSCALE:GREGORIAN
PRODID:-//Refresh Web Development//Helios Calendar//EN
X-FROM-URL:https://www.bayareascience.org/calendar/index.php?com=details&eID=34592
X-WR-RELCALID:BayAreaScience.org First Friday: Light Up the Night 20231201T180000
X-WR-TIMEZONE:America/New_York
X-WR-CALNAME:BayAreaScience.org
BEGIN:VEVENT
URL;VALUE=URI:https://www.bayareascience.org/calendar/index.php?com=detail&eID=34592
DTSTART:20231201T180000
DTEND:20231201T220000
SUMMARY:First Friday: Light Up the Night
DESCRIPTION:Despite December being the darkest month of the year for the Northern Hemisphere\, it is a time to light up the night with a celebration of different cultures. For First Friday: Lights Up the Night\,...\n______________________________\nThis Event Downloaded From a Helios Calendar Powered Site
LOCATION:Chabot Space and Science Center - 10000 Skyline Blvd \, Oakland\, CA USA 94619
CATEGORIES:BayAreaScience.org Events
PRIORITY:0
TRANSP:TRANSPARENT
END:VEVENT
END:VCALENDAR