BEGIN:VCALENDAR
VERSION:2.0
METHOD:PUBLISH
CALSCALE:GREGORIAN
PRODID:-//Refresh Web Development//Helios Calendar//EN
X-FROM-URL:https://www.bayareascience.org/calendar/index.php?com=details&eID=34597
X-WR-RELCALID:BayAreaScience.org The Library of the Great Silence: A conversation with Jonathon Keats - Livestream 20230907T143000
X-WR-TIMEZONE:America/New_York
X-WR-CALNAME:BayAreaScience.org
BEGIN:VEVENT
URL;VALUE=URI:https://www.bayareascience.org/calendar/index.php?com=detail&eID=34597
DTSTART:20230907T143000
DTEND:20230907T150000
SUMMARY:The Library of the Great Silence: A conversation with Jonathon Keats - Livestream
DESCRIPTION:We follow up with SETI Artist in Residence Jonathon Keats about his project The Library of the Great Silence\, an installation art project that addresses one of the implications of the Fermi Paradox....\n______________________________\nThis Event Downloaded From a Helios Calendar Powered Site
LOCATION:SETI Institute -  \, \, CA  
CATEGORIES:BayAreaScience.org Events
PRIORITY:0
TRANSP:TRANSPARENT
END:VEVENT
END:VCALENDAR