BEGIN:VCALENDAR
VERSION:2.0
METHOD:PUBLISH
CALSCALE:GREGORIAN
PRODID:-//Refresh Web Development//Helios Calendar//EN
X-FROM-URL:https://www.bayareascience.org/calendar/index.php?com=details&eID=34604
X-WR-RELCALID:BayAreaScience.org Studying Exoplanets with The James Webb Space Telescope 20231006T200000
X-WR-TIMEZONE:America/New_York
X-WR-CALNAME:BayAreaScience.org
BEGIN:VEVENT
URL;VALUE=URI:https://www.bayareascience.org/calendar/index.php?com=detail&eID=34604
DTSTART:20231006T200000
DTEND:20231006T213000
SUMMARY:Studying Exoplanets with The James Webb Space Telescope
DESCRIPTION:The James Webb Space Telescope is the most powerful and complex astronomical space observatory ever built. It launched in December 2021 into orbit in the Sun - Earth system. The large 6.5-m diameter...\n______________________________\nThis Event Downloaded From a Helios Calendar Powered Site
LOCATION:College of San Mateo - 1700 W Hillsdale Blvd \, San Mateo\, CA USA 94402
CATEGORIES:BayAreaScience.org Events
PRIORITY:0
TRANSP:TRANSPARENT
END:VEVENT
END:VCALENDAR