BEGIN:VCALENDAR
VERSION:2.0
METHOD:PUBLISH
CALSCALE:GREGORIAN
PRODID:-//Refresh Web Development//Helios Calendar//EN
X-FROM-URL:https://www.bayareascience.org/calendar/index.php?com=details&eID=34607
X-WR-RELCALID:BayAreaScience.org Two talks: StorageX International Symposium - Livestream 20230922T090000
X-WR-TIMEZONE:America/New_York
X-WR-CALNAME:BayAreaScience.org
BEGIN:VEVENT
URL;VALUE=URI:https://www.bayareascience.org/calendar/index.php?com=detail&eID=34607
DTSTART:20230922T090000
DTEND:20230922T110000
SUMMARY:Two talks: StorageX International Symposium - Livestream
DESCRIPTION:Thermal Battery Failures and Designing for Safety: Analyses and Case StudiesSpeaker: \n______________________________\nThis Event Downloaded From a Helios Calendar Powered Site
LOCATION:Stanford University -  \, \, CA  
CATEGORIES:BayAreaScience.org Events
PRIORITY:0
TRANSP:TRANSPARENT
END:VEVENT
END:VCALENDAR